BEGIN:VCALENDAR
VERSION:2.0
PRODID:-//wp-events-plugin.com//7.2.3.1//EN
TZID:America/New_York
X-WR-TIMEZONE:America/New_York
BEGIN:VEVENT
UID:7984@oseh-shalom.org
DTSTART;TZID=America/New_York:20241216T193000
DTEND;TZID=America/New_York:20241216T203000
DTSTAMP:20250412T130151Z
URL:https://oseh-shalom.org/events/life-long-learning-committee-meeting-2-
 2024-12-16/
SUMMARY:Lifelong Learning Committee Meeting
DESCRIPTION:Lifelong Learning Committee puts together films\, classes and o
 ther programs to enhance adult continuing education.  Come once or often 
 and share your ideas to this vibrant group. The team meets the 3rd Monday 
 of every month through May (except January and February\, which are on the
  4th Monday).  Committee Leader will distribute zoom links to members.  
 Contact is lagaynes@aol.com.
CATEGORIES:Meeting
END:VEVENT
BEGIN:VTIMEZONE
TZID:America/New_York
X-LIC-LOCATION:America/New_York
BEGIN:STANDARD
DTSTART:20241103T010000
TZOFFSETFROM:-0400
TZOFFSETTO:-0500
TZNAME:EST
END:STANDARD
END:VTIMEZONE
END:VCALENDAR