BEGIN:VCALENDAR
VERSION:2.0
PRODID:-//wp-events-plugin.com//7.2.3.1//EN
TZID:America/New_York
X-WR-TIMEZONE:America/New_York
BEGIN:VEVENT
UID:8871@oseh-shalom.org
DTSTART;TZID=America/New_York:20260426T100000
DTEND;TZID=America/New_York:20260426T123000
DTSTAMP:20260418T160647Z
URL:https://oseh-shalom.org/events/jewish-farm-field-trip/
SUMMARY:Jewish Farm Field Trip
DESCRIPTION:Join Oseh Shalom Religious School for a Jewish Farm Field Trip 
 at Pearlstone in Reisterstown\, MD\nOn this trip\, students will learn mor
 e about Tzaar Baalei Chaim (prevention of animal suffering) - and caring f
 or animals. We will learn from farmers about animal caretaking and visit c
 hickens and sheep. We will also visit wild animals on the wooded property.
  Older children will observe sheep-shearing and understand the importance 
 of a sheep haircut! Please email osrsassistant@gmail.com and CC Oseheddi
 rector@gmail.com to receive the RSVP form.  The cost of this outing is $5
 .00 per person.
ATTACH;FMTTYPE=image/jpeg:https://oseh-shalom.org/wp-content/uploads/2026/
 04/sheep.j.jpg
CATEGORIES:Outside the Building,School, Youth,zHome Page Events
END:VEVENT
BEGIN:VTIMEZONE
TZID:America/New_York
X-LIC-LOCATION:America/New_York
BEGIN:DAYLIGHT
DTSTART:20260308T030000
TZOFFSETFROM:-0500
TZOFFSETTO:-0400
TZNAME:EDT
END:DAYLIGHT
END:VTIMEZONE
END:VCALENDAR